BEGIN:VCALENDAR
VERSION:2.0
PRODID:-//Grillakademie Saar - ECPv6.15.20//NONSGML v1.0//EN
CALSCALE:GREGORIAN
METHOD:PUBLISH
X-WR-CALNAME:Grillakademie Saar
X-ORIGINAL-URL:https://www.grillakademie-saar.de
X-WR-CALDESC:Veranstaltungen für Grillakademie Saar
REFRESH-INTERVAL;VALUE=DURATION:PT1H
X-Robots-Tag:noindex
X-PUBLISHED-TTL:PT1H
BEGIN:VTIMEZONE
TZID:Europe/Paris
BEGIN:DAYLIGHT
TZOFFSETFROM:+0100
TZOFFSETTO:+0200
TZNAME:CEST
DTSTART:20220327T010000
END:DAYLIGHT
BEGIN:STANDARD
TZOFFSETFROM:+0200
TZOFFSETTO:+0100
TZNAME:CET
DTSTART:20221030T010000
END:STANDARD
BEGIN:DAYLIGHT
TZOFFSETFROM:+0100
TZOFFSETTO:+0200
TZNAME:CEST
DTSTART:20230326T010000
END:DAYLIGHT
BEGIN:STANDARD
TZOFFSETFROM:+0200
TZOFFSETTO:+0100
TZNAME:CET
DTSTART:20231029T010000
END:STANDARD
BEGIN:DAYLIGHT
TZOFFSETFROM:+0100
TZOFFSETTO:+0200
TZNAME:CEST
DTSTART:20240331T010000
END:DAYLIGHT
BEGIN:STANDARD
TZOFFSETFROM:+0200
TZOFFSETTO:+0100
TZNAME:CET
DTSTART:20241027T010000
END:STANDARD
END:VTIMEZONE
BEGIN:VEVENT
DTSTART;TZID=Europe/Paris:20230414T180000
DTEND;TZID=Europe/Paris:20230414T223000
DTSTAMP:20260425T010703
CREATED:20221201T122227Z
LAST-MODIFIED:20260126T155033Z
UID:10000358-1681495200-1681511400@www.grillakademie-saar.de
SUMMARY:Grillkurs Beer\, Beef & Meer - Bier Tasting meets Grillkurs
DESCRIPTION:Beer\, Beef & Meer – Bier Tasting meets Grillkurs! \nDer Spezial-Grillkurs „Beer\, Beef & Meer – Bier Tasting meets Grillkurs“ wird Sie begeistern und in seinen Bann ziehen. Erleben Sie eine Kombination aus Grillkurs mit Steaks\, Fisch im Bierteig und zart geschmorten Schweinebäckchen und geniessen Sie hierzu Auswahl verschiedener Biersorten. Freuen Sie sich auf ein außergewöhnliches Grillerlebnis. \nDieses Menü erwartet Sie an diesem Grill-Kurs in der Grillakademie Saar in Saarlouis bspw.: \n\nSaté Spieße von der Pute in Zwiebel-Bier-Marinade\nIn Bierteig gebackener Wolfsbarsch auf geschmorten Kirschtomaten und Rucola\nSteaks vom australischen Entrecote gemoppt mit Schwarzbiermarinade\nZart geschmorte Schweinebäckchen in Bier-Kräutersauce mit Süßkartoffeln und Saisongemüse\nSchokoladen-Dunkelbierkuchen mit gerösteten Bananenscheiben\n\nIn der Kursgebühr sind enthalten: \n\nWelcome Aperitif mit einem Amuse-Grill\nLebensmittel\nGetränke während der Kursdauer: Mineralwasser\, Softdrinks\, Bier\, Rosé\, Weisswein\, Rotwein\, Espresso\, Kaffee\nRezeptsammlung\n\nLeider Ausgebucht!
URL:https://www.grillakademie-saar.de/termine/grillkurs-beer-beef-meer-bier-tasting-meets-grillkurs-14042023/
LOCATION:Holtzendorffer Str. 6\, Saarlouis\, Saarland\, 66740\, Deutschland
CATEGORIES:Beef & Meer
ATTACH;FMTTYPE=image/jpeg:https://www.grillakademie-saar.de/wp-content/uploads/2026/01/AS_000581260000_0_AS_.jpg
END:VEVENT
BEGIN:VEVENT
DTSTART;TZID=Europe/Paris:20230414T180000
DTEND;TZID=Europe/Paris:20230414T223000
DTSTAMP:20260425T010703
CREATED:20260302T102913Z
LAST-MODIFIED:20260302T102913Z
UID:10001318-1681495200-1681511400@www.grillakademie-saar.de
SUMMARY:Grillkurs Beer\, Beef & Meer - Bier Tasting meets Grillkurs
DESCRIPTION:Beer\, Beef & Meer – Bier Tasting meets Grillkurs! \nDer Spezial-Grillkurs „Beer\, Beef & Meer – Bier Tasting meets Grillkurs“ wird Sie begeistern und in seinen Bann ziehen. Erleben Sie eine Kombination aus Grillkurs mit Steaks\, Fisch im Bierteig und zart geschmorten Schweinebäckchen und geniessen Sie hierzu Auswahl verschiedener Biersorten. Freuen Sie sich auf ein außergewöhnliches Grillerlebnis. \nDieses Menü erwartet Sie an diesem Grill-Kurs in der Grillakademie Saar in Saarlouis bspw.: \n\nSaté Spieße von der Pute in Zwiebel-Bier-Marinade\nIn Bierteig gebackener Wolfsbarsch auf geschmorten Kirschtomaten und Rucola\nSteaks vom australischen Entrecote gemoppt mit Schwarzbiermarinade\nZart geschmorte Schweinebäckchen in Bier-Kräutersauce mit Süßkartoffeln und Saisongemüse\nSchokoladen-Dunkelbierkuchen mit gerösteten Bananenscheiben\n\nIn der Kursgebühr sind enthalten: \n\nWelcome Aperitif mit einem Amuse-Grill\nLebensmittel\nGetränke während der Kursdauer: Mineralwasser\, Softdrinks\, Bier\, Rosé\, Weisswein\, Rotwein\, Espresso\, Kaffee\nRezeptsammlung\n\nLeider Ausgebucht!
URL:https://www.grillakademie-saar.de/termine/grillkurs-beer-beef-meer-bier-tasting-meets-grillkurs-24/
LOCATION:Holtzendorffer Str. 6\, Saarlouis\, Saarland\, 66740\, Deutschland
ATTACH;FMTTYPE=image/jpeg:https://www.grillakademie-saar.de/wp-content/uploads/2026/01/AS_000581260000_0_AS_.jpg
END:VEVENT
BEGIN:VEVENT
DTSTART;TZID=Europe/Paris:20230428T180000
DTEND;TZID=Europe/Paris:20230428T223000
DTSTAMP:20260425T010703
CREATED:20221209T092752Z
LAST-MODIFIED:20260126T155057Z
UID:10000386-1682704800-1682721000@www.grillakademie-saar.de
SUMMARY:Grillkurs Beer\, Beef & Meer - Bier Tasting meets Grillkurs
DESCRIPTION:Beer\, Beef & Meer – Bier Tasting meets Grillkurs! \nDer Spezial-Grillkurs „Beer\, Beef & Meer – Bier Tasting meets Grillkurs“ wird Sie begeistern und in seinen Bann ziehen. Erleben Sie eine Kombination aus Grillkurs mit Steaks\, Fisch im Bierteig und zart geschmorten Schweinebäckchen und geniessen Sie hierzu Auswahl verschiedener Biersorten. Freuen Sie sich auf ein außergewöhnliches Grillerlebnis. \nDieses Menü erwartet Sie an diesem Grill-Kurs in der Grillakademie Saar in Saarlouis bspw.: \n\nSaté Spieße von der Pute in Zwiebel-Bier-Marinade\nIn Bierteig gebackener Wolfsbarsch auf geschmorten Kirschtomaten und Rucola\nSteaks vom australischen Entrecote gemoppt mit Schwarzbiermarinade\nZart geschmorte Schweinebäckchen in Bier-Kräutersauce mit Süßkartoffeln und Saisongemüse\nSchokoladen-Dunkelbierkuchen mit gerösteten Bananenscheiben\n\nIn der Kursgebühr sind enthalten: \n\nWelcome Aperitif mit einem Amuse-Grill\nLebensmittel\nGetränke während der Kursdauer: Mineralwasser\, Softdrinks\, Bier\, Rosé\, Weisswein\, Rotwein\, Espresso\, Kaffee\nRezeptsammlung\n\nBuchen
URL:https://www.grillakademie-saar.de/termine/grillkurs-beer-beef-meer-bier-tasting-meets-grillkurs-28042023/
LOCATION:Holtzendorffer Str. 6\, Saarlouis\, Saarland\, 66740\, Deutschland
CATEGORIES:Beef & Meer
ATTACH;FMTTYPE=image/jpeg:https://www.grillakademie-saar.de/wp-content/uploads/2026/01/AS_000581260000_0_AS_.jpg
END:VEVENT
BEGIN:VEVENT
DTSTART;TZID=Europe/Paris:20230428T180000
DTEND;TZID=Europe/Paris:20230428T223000
DTSTAMP:20260425T010703
CREATED:20260302T102947Z
LAST-MODIFIED:20260302T102947Z
UID:10001346-1682704800-1682721000@www.grillakademie-saar.de
SUMMARY:Grillkurs Beer\, Beef & Meer - Bier Tasting meets Grillkurs
DESCRIPTION:Beer\, Beef & Meer – Bier Tasting meets Grillkurs! \nDer Spezial-Grillkurs „Beer\, Beef & Meer – Bier Tasting meets Grillkurs“ wird Sie begeistern und in seinen Bann ziehen. Erleben Sie eine Kombination aus Grillkurs mit Steaks\, Fisch im Bierteig und zart geschmorten Schweinebäckchen und geniessen Sie hierzu Auswahl verschiedener Biersorten. Freuen Sie sich auf ein außergewöhnliches Grillerlebnis. \nDieses Menü erwartet Sie an diesem Grill-Kurs in der Grillakademie Saar in Saarlouis bspw.: \n\nSaté Spieße von der Pute in Zwiebel-Bier-Marinade\nIn Bierteig gebackener Wolfsbarsch auf geschmorten Kirschtomaten und Rucola\nSteaks vom australischen Entrecote gemoppt mit Schwarzbiermarinade\nZart geschmorte Schweinebäckchen in Bier-Kräutersauce mit Süßkartoffeln und Saisongemüse\nSchokoladen-Dunkelbierkuchen mit gerösteten Bananenscheiben\n\nIn der Kursgebühr sind enthalten: \n\nWelcome Aperitif mit einem Amuse-Grill\nLebensmittel\nGetränke während der Kursdauer: Mineralwasser\, Softdrinks\, Bier\, Rosé\, Weisswein\, Rotwein\, Espresso\, Kaffee\nRezeptsammlung\n\nBuchen
URL:https://www.grillakademie-saar.de/termine/grillkurs-beer-beef-meer-bier-tasting-meets-grillkurs-30/
LOCATION:Holtzendorffer Str. 6\, Saarlouis\, Saarland\, 66740\, Deutschland
ATTACH;FMTTYPE=image/jpeg:https://www.grillakademie-saar.de/wp-content/uploads/2026/01/AS_000581260000_0_AS_.jpg
END:VEVENT
BEGIN:VEVENT
DTSTART;TZID=Europe/Paris:20230429T160000
DTEND;TZID=Europe/Paris:20230429T203000
DTSTAMP:20260425T010703
CREATED:20260302T102914Z
LAST-MODIFIED:20260302T102914Z
UID:10001319-1682784000-1682800200@www.grillakademie-saar.de
SUMMARY:Grillkurs Beer\, Beef & Meer - Bier Tasting meets Grillkurs
DESCRIPTION:Beer\, Beef & Meer – Bier Tasting meets Grillkurs! \nDer Spezial-Grillkurs „Beer\, Beef & Meer – Bier Tasting meets Grillkurs“ wird Sie begeistern und in seinen Bann ziehen. Erleben Sie eine Kombination aus Grillkurs mit Steaks\, Fisch im Bierteig und zart geschmorten Schweinebäckchen und geniessen Sie hierzu Auswahl verschiedener Biersorten. Freuen Sie sich auf ein außergewöhnliches Grillerlebnis. \nDieses Menü erwartet Sie an diesem Grill-Kurs in der Grillakademie Saar in Saarlouis bspw.: \n\nSaté Spieße von der Pute in Zwiebel-Bier-Marinade\nIn Bierteig gebackener Wolfsbarsch auf geschmorten Kirschtomaten und Rucola\nSteaks vom australischen Entrecote gemoppt mit Schwarzbiermarinade\nZart geschmorte Schweinebäckchen in Bier-Kräutersauce mit Süßkartoffeln und Saisongemüse\nSchokoladen-Dunkelbierkuchen mit gerösteten Bananenscheiben\n\nIn der Kursgebühr sind enthalten: \n\nWelcome Aperitif mit einem Amuse-Grill\nLebensmittel\nGetränke während der Kursdauer: Mineralwasser\, Softdrinks\, Bier\, Rosé\, Weisswein\, Rotwein\, Espresso\, Kaffee\nRezeptsammlung\n\ndemnächst buchbar
URL:https://www.grillakademie-saar.de/termine/grillkurs-beer-beef-meer-bier-tasting-meets-grillkurs-25/
LOCATION:Holtzendorffer Str. 6\, Saarlouis\, Saarland\, 66740\, Deutschland
ATTACH;FMTTYPE=image/jpeg:https://www.grillakademie-saar.de/wp-content/uploads/2026/01/AS_000581260000_0_AS_.jpg
END:VEVENT
END:VCALENDAR