BEGIN:VCALENDAR
VERSION:2.0
PRODID:-//Grillakademie Saar - ECPv6.15.20//NONSGML v1.0//EN
CALSCALE:GREGORIAN
METHOD:PUBLISH
X-WR-CALNAME:Grillakademie Saar
X-ORIGINAL-URL:https://www.grillakademie-saar.de
X-WR-CALDESC:Veranstaltungen für Grillakademie Saar
REFRESH-INTERVAL;VALUE=DURATION:PT1H
X-Robots-Tag:noindex
X-PUBLISHED-TTL:PT1H
BEGIN:VTIMEZONE
TZID:Europe/Paris
BEGIN:DAYLIGHT
TZOFFSETFROM:+0100
TZOFFSETTO:+0200
TZNAME:CEST
DTSTART:20240331T010000
END:DAYLIGHT
BEGIN:STANDARD
TZOFFSETFROM:+0200
TZOFFSETTO:+0100
TZNAME:CET
DTSTART:20241027T010000
END:STANDARD
BEGIN:DAYLIGHT
TZOFFSETFROM:+0100
TZOFFSETTO:+0200
TZNAME:CEST
DTSTART:20250330T010000
END:DAYLIGHT
BEGIN:STANDARD
TZOFFSETFROM:+0200
TZOFFSETTO:+0100
TZNAME:CET
DTSTART:20251026T010000
END:STANDARD
BEGIN:DAYLIGHT
TZOFFSETFROM:+0100
TZOFFSETTO:+0200
TZNAME:CEST
DTSTART:20260329T010000
END:DAYLIGHT
BEGIN:STANDARD
TZOFFSETFROM:+0200
TZOFFSETTO:+0100
TZNAME:CET
DTSTART:20261025T010000
END:STANDARD
END:VTIMEZONE
BEGIN:VEVENT
DTSTART;TZID=Europe/Paris:20250719T160000
DTEND;TZID=Europe/Paris:20250719T203000
DTSTAMP:20260421T025007
CREATED:20250429T092521Z
LAST-MODIFIED:20260126T160009Z
UID:10000827-1752940800-1752957000@www.grillakademie-saar.de
SUMMARY:Grillkurs Beer\, Beef & Meer - Bier Tasting meets Grillkurs
DESCRIPTION:Beer\, Beef & Meer – Bier Tasting meets Grillkurs! \nDer Spezial-Grillkurs „Beer\, Beef & Meer – Bier Tasting meets Grillkurs“ wird Sie begeistern und in seinen Bann ziehen. Erleben Sie eine Kombination aus Grillkurs mit Steaks\, Fisch im Bierteig und zart geschmorten Schweinebäckchen und geniessen Sie hierzu Auswahl verschiedener Biersorten. Freuen Sie sich auf ein außergewöhnliches Grillerlebnis. \nDieses Menü erwartet Sie an diesem Grill-Kurs in der Grillakademie Saar in Saarlouis bspw.: \n\nSaté Spieße von der Pute in Zwiebel-Bier-Marinade\nIn Bierteig gebackener Wolfsbarsch auf geschmorten Kirschtomaten und Rucola\nSteaks vom australischen Entrecote gemoppt mit Schwarzbiermarinade\nZart geschmorte Schweinebäckchen in Bier-Kräutersauce mit Süßkartoffeln und Saisongemüse\nSchokoladen-Dunkelbierkuchen mit gerösteten Bananenscheiben\n\nIn der Kursgebühr sind enthalten: \n\nWelcome Aperitif mit einem Amuse-Grill\nLebensmittel\nGetränke während der Kursdauer: Mineralwasser\, Softdrinks\, Bier\, Rosé\, Weisswein\, Rotwein\, Espresso\, Kaffee\nRezeptsammlung\n\nBuchen
URL:https://www.grillakademie-saar.de/termine/grillkurs-beer-beef-meer-bier-tasting-meets-grillkurs-19072025/
LOCATION:Holtzendorffer Str. 6\, Saarlouis\, Saarland\, 66740\, Deutschland
CATEGORIES:Beef & Meer,Grillkurs Beer
ATTACH;FMTTYPE=image/jpeg:https://www.grillakademie-saar.de/wp-content/uploads/2026/01/AS_000581260000_0_AS_.jpg
END:VEVENT
BEGIN:VEVENT
DTSTART;TZID=Europe/Paris:20250719T160000
DTEND;TZID=Europe/Paris:20250719T203000
DTSTAMP:20260421T025007
CREATED:20260302T103901Z
LAST-MODIFIED:20260302T103901Z
UID:10001787-1752940800-1752957000@www.grillakademie-saar.de
SUMMARY:Grillkurs Beer\, Beef & Meer - Bier Tasting meets Grillkurs
DESCRIPTION:Beer\, Beef & Meer – Bier Tasting meets Grillkurs! \nDer Spezial-Grillkurs „Beer\, Beef & Meer – Bier Tasting meets Grillkurs“ wird Sie begeistern und in seinen Bann ziehen. Erleben Sie eine Kombination aus Grillkurs mit Steaks\, Fisch im Bierteig und zart geschmorten Schweinebäckchen und geniessen Sie hierzu Auswahl verschiedener Biersorten. Freuen Sie sich auf ein außergewöhnliches Grillerlebnis. \nDieses Menü erwartet Sie an diesem Grill-Kurs in der Grillakademie Saar in Saarlouis bspw.: \n\nSaté Spieße von der Pute in Zwiebel-Bier-Marinade\nIn Bierteig gebackener Wolfsbarsch auf geschmorten Kirschtomaten und Rucola\nSteaks vom australischen Entrecote gemoppt mit Schwarzbiermarinade\nZart geschmorte Schweinebäckchen in Bier-Kräutersauce mit Süßkartoffeln und Saisongemüse\nSchokoladen-Dunkelbierkuchen mit gerösteten Bananenscheiben\n\nIn der Kursgebühr sind enthalten: \n\nWelcome Aperitif mit einem Amuse-Grill\nLebensmittel\nGetränke während der Kursdauer: Mineralwasser\, Softdrinks\, Bier\, Rosé\, Weisswein\, Rotwein\, Espresso\, Kaffee\nRezeptsammlung\n\nBuchen
URL:https://www.grillakademie-saar.de/termine/grillkurs-beer-beef-meer-bier-tasting-meets-grillkurs-69/
LOCATION:Holtzendorffer Str. 6\, Saarlouis\, Saarland\, 66740\, Deutschland
ATTACH;FMTTYPE=image/jpeg:https://www.grillakademie-saar.de/wp-content/uploads/2026/01/AS_000581260000_0_AS_.jpg
END:VEVENT
END:VCALENDAR